BEGIN:VCALENDAR
VERSION:2.0
PRODID:-//Analytical Instrumentation Facility - ECPv6.15.18//NONSGML v1.0//EN
CALSCALE:GREGORIAN
METHOD:PUBLISH
X-WR-CALNAME:Analytical Instrumentation Facility
X-ORIGINAL-URL:https://aif.ncsu.edu
X-WR-CALDESC:Events for Analytical Instrumentation Facility
REFRESH-INTERVAL;VALUE=DURATION:PT1H
X-Robots-Tag:noindex
X-PUBLISHED-TTL:PT1H
BEGIN:VTIMEZONE
TZID:America/New_York
BEGIN:DAYLIGHT
TZOFFSETFROM:-0500
TZOFFSETTO:-0400
TZNAME:EDT
DTSTART:20180311T070000
END:DAYLIGHT
BEGIN:STANDARD
TZOFFSETFROM:-0400
TZOFFSETTO:-0500
TZNAME:EST
DTSTART:20181104T060000
END:STANDARD
BEGIN:DAYLIGHT
TZOFFSETFROM:-0500
TZOFFSETTO:-0400
TZNAME:EDT
DTSTART:20190310T070000
END:DAYLIGHT
BEGIN:STANDARD
TZOFFSETFROM:-0400
TZOFFSETTO:-0500
TZNAME:EST
DTSTART:20191103T060000
END:STANDARD
BEGIN:DAYLIGHT
TZOFFSETFROM:-0500
TZOFFSETTO:-0400
TZNAME:EDT
DTSTART:20200308T070000
END:DAYLIGHT
BEGIN:STANDARD
TZOFFSETFROM:-0400
TZOFFSETTO:-0500
TZNAME:EST
DTSTART:20201101T060000
END:STANDARD
END:VTIMEZONE
BEGIN:VEVENT
DTSTART;TZID=America/New_York:20191007T100000
DTEND;TZID=America/New_York:20191008T160000
DTSTAMP:20260420T063957
CREATED:20190909T182527Z
LAST-MODIFIED:20190909T182648Z
UID:7080-1570442400-1570550400@aif.ncsu.edu
SUMMARY:Appalachian Regional Microscopy Society (AReMS) Fall Conference
DESCRIPTION:AReMS meets annually with an invigorating program of technical talks\, vendor displays\, work shops and social activities. They have interest in microscopy of any type including optical\, electron\, ion and scanned probe microscopies. \nTutorials will be held on Monday\, with a banquet Monday evening. Talks will take place on Tuesday. For more information\, to register\, and to view an agenda\, please visit the event website linked below.
URL:https://aif.ncsu.edu/event/appalachian-regional-microscopy-society-arems-fall-conference/
LOCATION:Fitzpatrick Center for Interdisciplinary Engineering\, 101 Science Dr.\, Durham\, NC\, 27705\, United States
CATEGORIES:2019
ORGANIZER;CN="Michelle Plue":MAILTO:michelle.plue@duke.edu
END:VEVENT
END:VCALENDAR